BEGIN:VCALENDAR
VERSION:2.0
PRODID:-//Capital Call Vintners - ECPv6.15.20//NONSGML v1.0//EN
CALSCALE:GREGORIAN
METHOD:PUBLISH
X-ORIGINAL-URL:https://capitalcallvintners.com
X-WR-CALDESC:Events for Capital Call Vintners
REFRESH-INTERVAL;VALUE=DURATION:PT1H
X-Robots-Tag:noindex
X-PUBLISHED-TTL:PT1H
BEGIN:VTIMEZONE
TZID:America/Los_Angeles
BEGIN:DAYLIGHT
TZOFFSETFROM:-0800
TZOFFSETTO:-0700
TZNAME:PDT
DTSTART:20250309T100000
END:DAYLIGHT
BEGIN:STANDARD
TZOFFSETFROM:-0700
TZOFFSETTO:-0800
TZNAME:PST
DTSTART:20251102T090000
END:STANDARD
BEGIN:DAYLIGHT
TZOFFSETFROM:-0800
TZOFFSETTO:-0700
TZNAME:PDT
DTSTART:20260308T100000
END:DAYLIGHT
BEGIN:STANDARD
TZOFFSETFROM:-0700
TZOFFSETTO:-0800
TZNAME:PST
DTSTART:20261101T090000
END:STANDARD
BEGIN:DAYLIGHT
TZOFFSETFROM:-0800
TZOFFSETTO:-0700
TZNAME:PDT
DTSTART:20270314T100000
END:DAYLIGHT
BEGIN:STANDARD
TZOFFSETFROM:-0700
TZOFFSETTO:-0800
TZNAME:PST
DTSTART:20271107T090000
END:STANDARD
END:VTIMEZONE
BEGIN:VEVENT
DTSTART;TZID=America/Los_Angeles:20260116T173000
DTEND;TZID=America/Los_Angeles:20260116T193000
DTSTAMP:20260424T130136
CREATED:20251219T175757Z
LAST-MODIFIED:20251219T175757Z
UID:9128-1768584600-1768591800@capitalcallvintners.com
SUMMARY:Third Fridays on Second Ave: Total BS
DESCRIPTION:Two former rock stars from the 90’s come together to play all original songs. …Wait\, that’s just BS. Total BS is Ben & Steve. \nNo Cover. Discounts on Glass Pours and Bottles.
URL:https://capitalcallvintners.com/event/third-fridays-on-second-ave-total-bs/
LOCATION:Capital Call Vintners\, 11 N Second Av\, Walla Walla\, WA\, 99362\, United States
CATEGORIES:Walla Walla Tasting Room
ATTACH;FMTTYPE=image/jpeg:https://capitalcallvintners.com/wp-content/uploads/2025/12/Third-Fridays-Graphics-Total-BS-4.5.jpg
END:VEVENT
BEGIN:VEVENT
DTSTART;TZID=America/Los_Angeles:20260125T150000
DTEND;TZID=America/Los_Angeles:20260125T170000
DTSTAMP:20260424T130136
CREATED:20251219T183114Z
LAST-MODIFIED:20251219T191452Z
UID:9131-1769353200-1769360400@capitalcallvintners.com
SUMMARY:Sunday Afternoon Jazz Club
DESCRIPTION:Andrés Dankel-Ibanez is back for 2026 with his rotating band of musicians for our Sunday Afternoon Jazz Club series. Can you think of a better way to roll into a new week? We can’t either. \nAndrew ‘Andrés’ Dankel-Ibañez (AD Ibañez) is a third-generation musician who is a semi-professional trumpeter and flugelhornist based in the Walla Walla Valley.  AD moved to the area as a teenager in 1991 and has performed and recorded jazz\, Latin\, rock\, reggae\, hip-hop\, and classical music in numerous bands throughout the Northwest and Latin America for over 30 years. \nNo cover. Discounts on Glass Pours and Bottles. Every last Sunday of the month.
URL:https://capitalcallvintners.com/event/sunday-afternoon-jazz-club-15/
LOCATION:WA
CATEGORIES:Walla Walla Tasting Room
ATTACH;FMTTYPE=image/webp:https://capitalcallvintners.com/wp-content/uploads/2025/04/Andres-Dankel-Ibanez-Jazz-Club.webp
END:VEVENT
END:VCALENDAR