BEGIN:VCALENDAR
VERSION:2.0
PRODID:-//Capital Call Vintners - ECPv6.15.20//NONSGML v1.0//EN
CALSCALE:GREGORIAN
METHOD:PUBLISH
X-ORIGINAL-URL:https://capitalcallvintners.com
X-WR-CALDESC:Events for Capital Call Vintners
REFRESH-INTERVAL;VALUE=DURATION:PT1H
X-Robots-Tag:noindex
X-PUBLISHED-TTL:PT1H
BEGIN:VTIMEZONE
TZID:America/Chicago
BEGIN:DAYLIGHT
TZOFFSETFROM:-0600
TZOFFSETTO:-0500
TZNAME:CDT
DTSTART:20240310T080000
END:DAYLIGHT
BEGIN:STANDARD
TZOFFSETFROM:-0500
TZOFFSETTO:-0600
TZNAME:CST
DTSTART:20241103T070000
END:STANDARD
BEGIN:DAYLIGHT
TZOFFSETFROM:-0600
TZOFFSETTO:-0500
TZNAME:CDT
DTSTART:20250309T080000
END:DAYLIGHT
BEGIN:STANDARD
TZOFFSETFROM:-0500
TZOFFSETTO:-0600
TZNAME:CST
DTSTART:20251102T070000
END:STANDARD
BEGIN:DAYLIGHT
TZOFFSETFROM:-0600
TZOFFSETTO:-0500
TZNAME:CDT
DTSTART:20260308T080000
END:DAYLIGHT
BEGIN:STANDARD
TZOFFSETFROM:-0500
TZOFFSETTO:-0600
TZNAME:CST
DTSTART:20261101T070000
END:STANDARD
END:VTIMEZONE
BEGIN:VTIMEZONE
TZID:America/Los_Angeles
BEGIN:DAYLIGHT
TZOFFSETFROM:-0800
TZOFFSETTO:-0700
TZNAME:PDT
DTSTART:20240310T100000
END:DAYLIGHT
BEGIN:STANDARD
TZOFFSETFROM:-0700
TZOFFSETTO:-0800
TZNAME:PST
DTSTART:20241103T090000
END:STANDARD
BEGIN:DAYLIGHT
TZOFFSETFROM:-0800
TZOFFSETTO:-0700
TZNAME:PDT
DTSTART:20250309T100000
END:DAYLIGHT
BEGIN:STANDARD
TZOFFSETFROM:-0700
TZOFFSETTO:-0800
TZNAME:PST
DTSTART:20251102T090000
END:STANDARD
BEGIN:DAYLIGHT
TZOFFSETFROM:-0800
TZOFFSETTO:-0700
TZNAME:PDT
DTSTART:20260308T100000
END:DAYLIGHT
BEGIN:STANDARD
TZOFFSETFROM:-0700
TZOFFSETTO:-0800
TZNAME:PST
DTSTART:20261101T090000
END:STANDARD
END:VTIMEZONE
BEGIN:VEVENT
DTSTART;TZID=America/Chicago:20251009T180000
DTEND;TZID=America/Chicago:20251009T200000
DTSTAMP:20260424T165935
CREATED:20250430T202642Z
LAST-MODIFIED:20250707T170949Z
UID:7995-1760032800-1760040000@capitalcallvintners.com
SUMMARY:IA: Wagyu Flight with the Good Butcher x Capital Call Vintners
DESCRIPTION:Join us for a Wagyu Flight hosted by The Good Butcher and Capital Call Vintners\, where you’ll explore the unique qualities of American Wagyu\, Japanese A5\, and Australian Wagyu. Chef Terry Boston\, who has spent nearly four decades perfecting his craft in Des Moines\, will demonstrate accessible cooking techniques and offer practical advice on preparing these premium ribeyes at home. \nButcher Calvin Schnucker\, owner of The Good Butcher\, will share his experience selecting and sourcing top-tier Wagyu\, shedding light on how each region influences flavor and texture. \nFollowing the demonstration\, gather around for a family-style meal featuring these specially prepared ribeyes\, along with sides created by Chef Terry. Capital Call Vintners will enhance the evening by curating wines\, presented by Guillermo Munoz\, Midwest Regional Distribution Manager. \nReserve your place for a relaxed evening of learning\, culinary discovery\, and memorable tastes—perfect for those who love great food\, wine\, and new techniques.
URL:https://capitalcallvintners.com/event/ia-wagyu-flight-with-the-good-butcher-x-capital-call-vintners/
LOCATION:Middlebrook Farm\, 4300 Cumming Ave\, Cumming\, IA\, 50061\, United States
CATEGORIES:Iowa
ATTACH;FMTTYPE=image/jpeg:https://capitalcallvintners.com/wp-content/uploads/2025/04/Steak-School-October-9-4.5.jpg
END:VEVENT
BEGIN:VEVENT
DTSTART;TZID=America/Los_Angeles:20251016T180000
DTEND;TZID=America/Los_Angeles:20251016T210000
DTSTAMP:20260424T165935
CREATED:20250803T022924Z
LAST-MODIFIED:20251008T161346Z
UID:8473-1760637600-1760648400@capitalcallvintners.com
SUMMARY:Fall Release and Harvest Dinner
DESCRIPTION:Sold out! Contact Info@CapitalCallVintners.com to be added to the waitlist.  \nTHURSDAY\, OCTOBER 16 | 6:00 PM – 9:00 PM | TMACS\n28 seats only \nJoin us for an unforgettable Harvest Dinner hosted by our co-founder\, Alan Busacca—affectionately known as “Doctor Dirt.” Set on the mezzanine at TMACS\, the evening will feature a fall-inspired menu crafted specially for the night\, paired with the debut of our new seasonal wine releases. \nTickets\n• $100 for members\n• $125 for general public \nMembers\, please call the tasting room directly to reserve your discounted seat.\nSeating is extremely limited—reserve early! \n 
URL:https://capitalcallvintners.com/event/fall-release-and-harvest-dinner/
LOCATION:TMACS\, 80 N Colville St\, Walla Walla\, WA\, 99362\, United States
CATEGORIES:Walla Walla
ATTACH;FMTTYPE=image/webp:https://capitalcallvintners.com/wp-content/uploads/2025/08/2025-Fall-Release-Harvest-Dinner.webp
END:VEVENT
BEGIN:VEVENT
DTSTART;TZID=America/Los_Angeles:20251017T173000
DTEND;TZID=America/Los_Angeles:20251017T193000
DTSTAMP:20260424T165935
CREATED:20251017T194828Z
LAST-MODIFIED:20251017T194828Z
UID:8891-1760722200-1760729400@capitalcallvintners.com
SUMMARY:Friday Music: Full Hearts
DESCRIPTION:Based in Walla Walla\, Janine + Trent offer a fresh take on favorite songs with voices and acoustic guitar. Blending Janine’s extensive vocal experience and Trent’s passion for guitar\, their love of music is infused throughout songs spanning decades and genres\, which they’ve reinterpreted and made their own. From sweet and light to rich and soulful\, their music is made with love and a heartfelt hope of sharing joy.
URL:https://capitalcallvintners.com/event/friday-music-full-hearts/
LOCATION:WA
CATEGORIES:Walla Walla Tasting Room
ATTACH;FMTTYPE=image/webp:https://capitalcallvintners.com/wp-content/uploads/2025/10/Live-Music-Walla-Walla.webp
END:VEVENT
BEGIN:VEVENT
DTSTART;TZID=America/Los_Angeles:20251024T173000
DTEND;TZID=America/Los_Angeles:20251024T193000
DTSTAMP:20260424T165935
CREATED:20251017T195435Z
LAST-MODIFIED:20251017T195435Z
UID:8894-1761327000-1761334200@capitalcallvintners.com
SUMMARY:Friday Music: Adam Kirtley
DESCRIPTION:Singer-songwriter Adam Kirtley has been making music in the valley for almost 25 years. You might recognize him from the bluegrass/Americana band Rogue Lobster or rocking out with Stereo Bird. \nThese days\, Adam’s solo shows shine a light on his own songs—original tunes full of storytelling\, heart\, and plenty of soul. With years of playing under his belt\, he brings an easy mix of talent and authenticity that makes every show feel like a good hang with great music.
URL:https://capitalcallvintners.com/event/friday-music-adam-kirtley/
LOCATION:Capital Call Vintners\, 11 N Second Av\, Walla Walla\, WA\, 99362\, United States
CATEGORIES:Walla Walla Tasting Room
ATTACH;FMTTYPE=image/webp:https://capitalcallvintners.com/wp-content/uploads/2025/10/Adam_Kirtley.webp
END:VEVENT
END:VCALENDAR