BEGIN:VCALENDAR
VERSION:2.0
PRODID:-//Capital Call Vintners - ECPv6.15.20//NONSGML v1.0//EN
CALSCALE:GREGORIAN
METHOD:PUBLISH
X-ORIGINAL-URL:https://capitalcallvintners.com
X-WR-CALDESC:Events for Capital Call Vintners
REFRESH-INTERVAL;VALUE=DURATION:PT1H
X-Robots-Tag:noindex
X-PUBLISHED-TTL:PT1H
BEGIN:VTIMEZONE
TZID:America/Chicago
BEGIN:DAYLIGHT
TZOFFSETFROM:-0600
TZOFFSETTO:-0500
TZNAME:CDT
DTSTART:20240310T080000
END:DAYLIGHT
BEGIN:STANDARD
TZOFFSETFROM:-0500
TZOFFSETTO:-0600
TZNAME:CST
DTSTART:20241103T070000
END:STANDARD
BEGIN:DAYLIGHT
TZOFFSETFROM:-0600
TZOFFSETTO:-0500
TZNAME:CDT
DTSTART:20250309T080000
END:DAYLIGHT
BEGIN:STANDARD
TZOFFSETFROM:-0500
TZOFFSETTO:-0600
TZNAME:CST
DTSTART:20251102T070000
END:STANDARD
BEGIN:DAYLIGHT
TZOFFSETFROM:-0600
TZOFFSETTO:-0500
TZNAME:CDT
DTSTART:20260308T080000
END:DAYLIGHT
BEGIN:STANDARD
TZOFFSETFROM:-0500
TZOFFSETTO:-0600
TZNAME:CST
DTSTART:20261101T070000
END:STANDARD
END:VTIMEZONE
BEGIN:VTIMEZONE
TZID:America/Los_Angeles
BEGIN:DAYLIGHT
TZOFFSETFROM:-0800
TZOFFSETTO:-0700
TZNAME:PDT
DTSTART:20240310T100000
END:DAYLIGHT
BEGIN:STANDARD
TZOFFSETFROM:-0700
TZOFFSETTO:-0800
TZNAME:PST
DTSTART:20241103T090000
END:STANDARD
BEGIN:DAYLIGHT
TZOFFSETFROM:-0800
TZOFFSETTO:-0700
TZNAME:PDT
DTSTART:20250309T100000
END:DAYLIGHT
BEGIN:STANDARD
TZOFFSETFROM:-0700
TZOFFSETTO:-0800
TZNAME:PST
DTSTART:20251102T090000
END:STANDARD
BEGIN:DAYLIGHT
TZOFFSETFROM:-0800
TZOFFSETTO:-0700
TZNAME:PDT
DTSTART:20260308T100000
END:DAYLIGHT
BEGIN:STANDARD
TZOFFSETFROM:-0700
TZOFFSETTO:-0800
TZNAME:PST
DTSTART:20261101T090000
END:STANDARD
END:VTIMEZONE
BEGIN:VEVENT
DTSTART;TZID=America/Chicago:20250902T180000
DTEND;TZID=America/Chicago:20250902T200000
DTSTAMP:20260424T184801
CREATED:20250430T203850Z
LAST-MODIFIED:20250430T203859Z
UID:8001-1756836000-1756843200@capitalcallvintners.com
SUMMARY:IA: Grant Gillon x Capital Call Vintner Farm to Table Dinner @ Middlebrook Farm
DESCRIPTION:Capital Call Winery invites you to Middlebrook Farm\, just 10 minutes from West Glen\, for an evening celebrating fine wine\, exceptional cuisine\, and Iowa spirit\, featuring special guest Chef Grant Gillon—MasterChef Season 13 Champion. Chef Grant rose to fame showcasing his skill\, creativity\, and passion for bold flavors\, fresh ingredients\, and culinary excellence\, making him a standout in the Iowa food scene. \n**TICKET PRICE INCLUDES GRATUITY – WE CANNOT ACCOMMODATE VEGAN/VEGETARIAN ** \nMENU \nThe four course menu and wine pairings will be announced closer to the event but feature the freshest local ingredients available at the time of the dinner.
URL:https://capitalcallvintners.com/event/ia-grant-gillon-x-capital-call-vintner-farm-to-table-dinner-middlebrook-farm/
LOCATION:Middlebrook Farm\, 4300 Cumming Ave\, Cumming\, IA\, 50061\, United States
CATEGORIES:Iowa
ATTACH;FMTTYPE=image/jpeg:https://capitalcallvintners.com/wp-content/uploads/2025/04/Grant-Gillon-Graphics-Feed-4.5.jpg
END:VEVENT
BEGIN:VEVENT
DTSTART;TZID=America/Los_Angeles:20250919T173000
DTEND;TZID=America/Los_Angeles:20250919T193000
DTSTAMP:20260424T184801
CREATED:20250803T024344Z
LAST-MODIFIED:20250803T024344Z
UID:8477-1758303000-1758310200@capitalcallvintners.com
SUMMARY:Third Fridays on Second Ave: Double Take
DESCRIPTION:Join us on Third Fridays on Second Ave with Double Take Guitar Duo—Bill Bogard and John Holmes. Performing jazz standards and originals with two guitars and a timeless sound. \nJohn Holmes has been a key member of the Non Stop Band—a composer’s workshop and studio recording project—for over 40 years. Locally\, he’s played in a variety of duos and trios\, including Duo Caribe with percussionist Lary Barileau\, Jazzmen Tea with poet Larry Leier\, the Latin Jazz Collective\, and the Mike Agidius Quartet. He also regularly performs with his son Chris and percussionist Glenn Ayers under various group names. \nBill Bogard is a seasoned guitarist with more than 50 years of professional experience. He has performed locally with groups such as My Sister Linoleum featuring vocalist Janet Berger\, Jazz Standard Time\, and The Walla Walla Rhythm Train\, in addition to numerous solo appearances. A retired professor from Whitman College\, Bill is both a performer and composer\, known for his expressive musicianship and dedication to the craft. \nNo Cover. Discounts on wine pours and bottles. \n 
URL:https://capitalcallvintners.com/event/third-fridays-on-second-ave-double-take/
LOCATION:Capital Call Vintners\, 11 N Second Av\, Walla Walla\, WA\, 99362\, United States
CATEGORIES:Walla Walla,Walla Walla Tasting Room
ATTACH;FMTTYPE=image/webp:https://capitalcallvintners.com/wp-content/uploads/2025/08/Double-Take-.webp
END:VEVENT
BEGIN:VEVENT
DTSTART;TZID=America/Los_Angeles:20250928T150000
DTEND;TZID=America/Los_Angeles:20250928T170000
DTSTAMP:20260424T184801
CREATED:20250429T203230Z
LAST-MODIFIED:20250430T191207Z
UID:7977-1759071600-1759078800@capitalcallvintners.com
SUMMARY:Sunday Afternoon Jazz Club
DESCRIPTION:Every last Sunday of the month join us for a relaxing Sunday Afternoon Jazz Club featuring Andrés Dankel-Ibañez joined by a rotating selection of complimentary musicians.
URL:https://capitalcallvintners.com/event/sunday-afternoon-jazz-club-12/
LOCATION:Capital Call Vintners\, 11 N Second Av\, Walla Walla\, WA\, 99362\, United States
CATEGORIES:Walla Walla,Walla Walla Tasting Room
ATTACH;FMTTYPE=image/webp:https://capitalcallvintners.com/wp-content/uploads/2025/04/Andres-Dankel-Ibanez-Jazz-Club.webp
END:VEVENT
END:VCALENDAR