BEGIN:VCALENDAR
VERSION:2.0
PRODID:-//Capital Call Vintners - ECPv6.15.20//NONSGML v1.0//EN
CALSCALE:GREGORIAN
METHOD:PUBLISH
X-ORIGINAL-URL:https://capitalcallvintners.com
X-WR-CALDESC:Events for Capital Call Vintners
REFRESH-INTERVAL;VALUE=DURATION:PT1H
X-Robots-Tag:noindex
X-PUBLISHED-TTL:PT1H
BEGIN:VTIMEZONE
TZID:America/Los_Angeles
BEGIN:DAYLIGHT
TZOFFSETFROM:-0800
TZOFFSETTO:-0700
TZNAME:PDT
DTSTART:20240310T100000
END:DAYLIGHT
BEGIN:STANDARD
TZOFFSETFROM:-0700
TZOFFSETTO:-0800
TZNAME:PST
DTSTART:20241103T090000
END:STANDARD
BEGIN:DAYLIGHT
TZOFFSETFROM:-0800
TZOFFSETTO:-0700
TZNAME:PDT
DTSTART:20250309T100000
END:DAYLIGHT
BEGIN:STANDARD
TZOFFSETFROM:-0700
TZOFFSETTO:-0800
TZNAME:PST
DTSTART:20251102T090000
END:STANDARD
BEGIN:DAYLIGHT
TZOFFSETFROM:-0800
TZOFFSETTO:-0700
TZNAME:PDT
DTSTART:20260308T100000
END:DAYLIGHT
BEGIN:STANDARD
TZOFFSETFROM:-0700
TZOFFSETTO:-0800
TZNAME:PST
DTSTART:20261101T090000
END:STANDARD
END:VTIMEZONE
BEGIN:VEVENT
DTSTART;TZID=America/Los_Angeles:20250309T150000
DTEND;TZID=America/Los_Angeles:20250309T170000
DTSTAMP:20260423T162650
CREATED:20250122T233607Z
LAST-MODIFIED:20250122T233607Z
UID:7102-1741532400-1741539600@capitalcallvintners.com
SUMMARY:Sunday Afternoon Jazz Club
DESCRIPTION:Our Sunday afternoon Jazz Club will run every Sunday February 16 through March 30 from 3:00 PM to 5:00 PM and will feature guitarist Michael Kelly and horns by AD Ibanez. Stop in for a relaxing Sunday afternoon! \nAnd glass pours and bottles are 10% off during Jazz Club!
URL:https://capitalcallvintners.com/event/sunday-afternoon-jazz-club-4/
LOCATION:Capital Call Vintners\, 11 N Second Av\, Walla Walla\, WA\, 99362\, United States
CATEGORIES:Walla Walla,Walla Walla Tasting Room
ATTACH;FMTTYPE=image/jpeg:https://capitalcallvintners.com/wp-content/uploads/2025/01/Jazz-Club-social2.jpg
END:VEVENT
BEGIN:VEVENT
DTSTART;TZID=America/Los_Angeles:20250302T150000
DTEND;TZID=America/Los_Angeles:20250302T170000
DTSTAMP:20260423T162650
CREATED:20250122T233516Z
LAST-MODIFIED:20250122T233516Z
UID:7100-1740927600-1740934800@capitalcallvintners.com
SUMMARY:Sunday Afternoon Jazz Club
DESCRIPTION:Our Sunday afternoon Jazz Club will run every Sunday February 16 through March 30 from 3:00 PM to 5:00 PM and will feature guitarist Michael Kelly and horns by AD Ibanez. Stop in for a relaxing Sunday afternoon! \nAnd glass pours and bottles are 10% off during Jazz Club!
URL:https://capitalcallvintners.com/event/sunday-afternoon-jazz-club-3/
LOCATION:WA
CATEGORIES:Walla Walla,Walla Walla Tasting Room
ATTACH;FMTTYPE=image/jpeg:https://capitalcallvintners.com/wp-content/uploads/2025/01/Jazz-Club-social2.jpg
END:VEVENT
BEGIN:VEVENT
DTSTART;TZID=America/Los_Angeles:20250223T150000
DTEND;TZID=America/Los_Angeles:20250223T170000
DTSTAMP:20260423T162650
CREATED:20250122T233412Z
LAST-MODIFIED:20250122T233428Z
UID:7098-1740322800-1740330000@capitalcallvintners.com
SUMMARY:Sunday Afternoon Jazz Club
DESCRIPTION:Our Sunday afternoon Jazz Club will run every Sunday February 16 through March 30 from 3:00 PM to 5:00 PM and will feature guitarist Michael Kelly and horns by AD Ibanez. Stop in for a relaxing Sunday afternoon! \nAnd glass pours and bottles are 10% off during Jazz Club!
URL:https://capitalcallvintners.com/event/sunday-afternoon-jazz-club-2/
LOCATION:Capital Call Vintners\, 11 N Second Av\, Walla Walla\, WA\, 99362\, United States
ATTACH;FMTTYPE=image/jpeg:https://capitalcallvintners.com/wp-content/uploads/2025/01/Jazz-Club-social2.jpg
END:VEVENT
BEGIN:VEVENT
DTSTART;TZID=America/Los_Angeles:20250221T173000
DTEND;TZID=America/Los_Angeles:20250221T193000
DTSTAMP:20260423T162650
CREATED:20250122T223713Z
LAST-MODIFIED:20250127T211013Z
UID:7058-1740159000-1740166200@capitalcallvintners.com
SUMMARY:Third Fridays on Second Ave: Campbell Davis
DESCRIPTION:We are excited to welcome Campbell Davis\, an indie rock artist with soulful folk roots reminiscent of Allen Stone\, John Mayer\, Drew Holcomb\, Dave Matthews\, and Chris Stapleton. Campbell is a skilled performer with genre blending original music and a vast array of cover songs and styles. to our Walla Walla tasting room on Friday\, January 17 from 5:30 – 7:30 pm. \nDuring our Third Friday live music series\, glass pours and bottles are always 10% off!
URL:https://capitalcallvintners.com/event/third-fridays-on-second-ave-campbell-davis/
LOCATION:Capital Call Vintners\, 11 N Second Av\, Walla Walla\, WA\, 99362\, United States
END:VEVENT
BEGIN:VEVENT
DTSTART;TZID=America/Los_Angeles:20250216T150000
DTEND;TZID=America/Los_Angeles:20250216T170000
DTSTAMP:20260423T162650
CREATED:20250122T231958Z
LAST-MODIFIED:20250122T232007Z
UID:7095-1739718000-1739725200@capitalcallvintners.com
SUMMARY:Sunday Afternoon Jazz Club
DESCRIPTION:Our Sunday afternoon Jazz Club will run every Sunday February 16 through March 30 from 3:00 PM to 5:00 PM and will feature guitarist Michael Kelly and horns by AD Ibanez. Stop in for a relaxing Sunday afternoon! \nAnd glass pours and bottles are 10% off during Jazz Club!
URL:https://capitalcallvintners.com/event/sunday-afternoon-jazz-club/
LOCATION:WA
CATEGORIES:Walla Walla,Walla Walla Tasting Room
ATTACH;FMTTYPE=image/jpeg:https://capitalcallvintners.com/wp-content/uploads/2025/01/Jazz-Club-social2.jpg
END:VEVENT
BEGIN:VEVENT
DTSTART;VALUE=DATE:20250124
DTEND;VALUE=DATE:20250127
DTSTAMP:20260423T162650
CREATED:20250122T225430Z
LAST-MODIFIED:20250124T171104Z
UID:7076-1737676800-1737935999@capitalcallvintners.com
SUMMARY:Locals Weekend Discounts
DESCRIPTION:Stop in during Walla Walla Locals (we’re defining local as pretty much anyone that lives in Eastern Washington!) Weekend for 15% off bottles and glass pours and a waved tasting fee!
URL:https://capitalcallvintners.com/event/locals-weekend-discounts/
LOCATION:WA
CATEGORIES:Walla Walla,Walla Walla Tasting Room
END:VEVENT
END:VCALENDAR