BEGIN:VCALENDAR
VERSION:2.0
PRODID:-//Capital Call Vintners - ECPv6.15.20//NONSGML v1.0//EN
CALSCALE:GREGORIAN
METHOD:PUBLISH
X-ORIGINAL-URL:https://capitalcallvintners.com
X-WR-CALDESC:Events for Capital Call Vintners
REFRESH-INTERVAL;VALUE=DURATION:PT1H
X-Robots-Tag:noindex
X-PUBLISHED-TTL:PT1H
BEGIN:VTIMEZONE
TZID:America/Los_Angeles
BEGIN:DAYLIGHT
TZOFFSETFROM:-0800
TZOFFSETTO:-0700
TZNAME:PDT
DTSTART:20240310T100000
END:DAYLIGHT
BEGIN:STANDARD
TZOFFSETFROM:-0700
TZOFFSETTO:-0800
TZNAME:PST
DTSTART:20241103T090000
END:STANDARD
BEGIN:DAYLIGHT
TZOFFSETFROM:-0800
TZOFFSETTO:-0700
TZNAME:PDT
DTSTART:20250309T100000
END:DAYLIGHT
BEGIN:STANDARD
TZOFFSETFROM:-0700
TZOFFSETTO:-0800
TZNAME:PST
DTSTART:20251102T090000
END:STANDARD
BEGIN:DAYLIGHT
TZOFFSETFROM:-0800
TZOFFSETTO:-0700
TZNAME:PDT
DTSTART:20260308T100000
END:DAYLIGHT
BEGIN:STANDARD
TZOFFSETFROM:-0700
TZOFFSETTO:-0800
TZNAME:PST
DTSTART:20261101T090000
END:STANDARD
END:VTIMEZONE
BEGIN:VTIMEZONE
TZID:America/Chicago
BEGIN:DAYLIGHT
TZOFFSETFROM:-0600
TZOFFSETTO:-0500
TZNAME:CDT
DTSTART:20240310T080000
END:DAYLIGHT
BEGIN:STANDARD
TZOFFSETFROM:-0500
TZOFFSETTO:-0600
TZNAME:CST
DTSTART:20241103T070000
END:STANDARD
BEGIN:DAYLIGHT
TZOFFSETFROM:-0600
TZOFFSETTO:-0500
TZNAME:CDT
DTSTART:20250309T080000
END:DAYLIGHT
BEGIN:STANDARD
TZOFFSETFROM:-0500
TZOFFSETTO:-0600
TZNAME:CST
DTSTART:20251102T070000
END:STANDARD
BEGIN:DAYLIGHT
TZOFFSETFROM:-0600
TZOFFSETTO:-0500
TZNAME:CDT
DTSTART:20260308T080000
END:DAYLIGHT
BEGIN:STANDARD
TZOFFSETFROM:-0500
TZOFFSETTO:-0600
TZNAME:CST
DTSTART:20261101T070000
END:STANDARD
END:VTIMEZONE
BEGIN:VEVENT
DTSTART;TZID=America/Los_Angeles:20250525T150000
DTEND;TZID=America/Los_Angeles:20250525T170000
DTSTAMP:20260423T151133
CREATED:20250429T202939Z
LAST-MODIFIED:20250429T204227Z
UID:7968-1748185200-1748192400@capitalcallvintners.com
SUMMARY:Sunday Afternoon Jazz Club
DESCRIPTION:Every last Sunday of the month join us for a relaxing Sunday Afternoon Jazz Club featuring Andrés Dankel-Ibañez joined by a rotating selection of complimentary musicians.
URL:https://capitalcallvintners.com/event/sunday-afternoon-jazz-club-8/
LOCATION:IA
CATEGORIES:Walla Walla,Walla Walla Tasting Room
ATTACH;FMTTYPE=image/webp:https://capitalcallvintners.com/wp-content/uploads/2025/04/Andres-Dankel-Ibanez-Jazz-Club.webp
END:VEVENT
BEGIN:VEVENT
DTSTART;TZID=America/Los_Angeles:20250516T173000
DTEND;TZID=America/Los_Angeles:20250516T193000
DTSTAMP:20260423T151133
CREATED:20250129T220713Z
LAST-MODIFIED:20250129T220713Z
UID:7233-1747416600-1747423800@capitalcallvintners.com
SUMMARY:Third Fridays on Second Ave: Calico Bones
DESCRIPTION:Calico Bones is a sister duo from Wallowa\, Oregon\, now based in Walla Walla\, weaving together the sounds of folk\, indie\, and Americana. Known for their close harmonies and flowing melodies\, their music takes listeners on a journey through nostalgic storytelling\, all while keeping a playful sense of humor. \nNo cover. During our Third Friday live music series\, glass pours and bottles are always 10% off!
URL:https://capitalcallvintners.com/event/third-fridays-on-second-ave-calico-bones/
LOCATION:Capital Call Vintners\, 11 N Second Av\, Walla Walla\, WA\, 99362\, United States
CATEGORIES:Walla Walla,Walla Walla Tasting Room
ATTACH;FMTTYPE=image/jpeg:https://capitalcallvintners.com/wp-content/uploads/2025/01/General-Square-Third-Fridays.jpg
END:VEVENT
BEGIN:VEVENT
DTSTART;TZID=America/Chicago:20250508T173000
DTEND;TZID=America/Chicago:20250508T203000
DTSTAMP:20260423T151133
CREATED:20250430T191755Z
LAST-MODIFIED:20250430T192532Z
UID:7984-1746725400-1746736200@capitalcallvintners.com
SUMMARY:IA: Capital Call Vintners x Lua Brewing Farm-to-Table Dinner at Middlebrook Farm
DESCRIPTION:Capital Call Vintners invites you to Middlebrook Farm\, just 10 minutes from West Glen\, for an evening celebrating fine wine\, craft beer\, and exceptional cuisine in partnership with our friends at acclaimed local brewery\, Lua Brewing—recently named the #1 Brewpub in America by USA Today. Experience a memorable five-course dinner crafted by Chef James Arbaugh\, Lua’s Executive Chef\, who brings Michelin-starred culinary expertise from Plumed Horse in the Bay Area. \n**TICKET PRICE INCLUDES GRATUITY – WE CANNOT ACCOMMODATE VEGAN/VEGETARIAN ** \n  \nMENU: \nOpening Bite \nCalifornia White Sturgeon Caviar \ntoasted brioche\, tomato concasse\, chive\, “Hollandaise” \nWine and Beer Pairing | Lua Brewing Sonder #4 & NV Capital Call ‘Blanc de Blancs’ Sparkling Wine \n  \n1st Course \nSalmon Crudo \ncucumber\, citrus\, popped quinoa\, basil and chili oil \nWine Pairing | 2024 Capital Call ‘Gold Standard’ Gruner Veltliner \n  \n2nd Course \nAsparagus Soup \nramps\, pickled white asparagus\, creme fraiche \nBeer Pairing | Gils Pils by Lua Brewing \n  \n3rd Course \nChicken Ballontine \nenglish peas\, morel mushrooms\, carrot\, pea shoots\, jus \nWine Pairing | 2024 Capital Call Rosé \n  \n4th Course \nBeef Striploin \nthree garlics\, sunchokes\, jus \nWine Pairing | 2022 Capital Call Cabernet Sauvignon \n  \n5th Course \nAlmond Chiffon Cake \nlavender frosting\, pickled green strawberries\, beer grain streusel \nBeer Pairing | Marsapan Stout by Lua Brewing
URL:https://capitalcallvintners.com/event/capital-call-vintners-x-lua-brewing-farm-to-table-dinner-at-middlebrook-farm/
LOCATION:Middlebrook Farm\, 4300 Cumming Ave\, Cumming\, IA\, 50061\, United States
CATEGORIES:Iowa
ATTACH;FMTTYPE=image/jpeg:https://capitalcallvintners.com/wp-content/uploads/2025/04/Farm-to-Table-4.5-Social-Feed.jpg
END:VEVENT
BEGIN:VEVENT
DTSTART;TZID=America/Los_Angeles:20250418T173000
DTEND;TZID=America/Los_Angeles:20250418T193000
DTSTAMP:20260423T151133
CREATED:20250129T220435Z
LAST-MODIFIED:20250129T220435Z
UID:7231-1744997400-1745004600@capitalcallvintners.com
SUMMARY:Third Fridays on Second Ave: Friends of the Devil
DESCRIPTION:“We provide the great people of the Walla Walla Valley with an antidote to civilization by serving up music from The Grateful Dead\, Bob Dylan\, Neil Young\, and the PHISH from Vermont.” \nNo Cover. During our Third Friday live music series\, glass pours and bottles are always 10% off!
URL:https://capitalcallvintners.com/event/third-fridays-on-second-ave-friends-of-the-devil/
LOCATION:IA
CATEGORIES:Walla Walla,Walla Walla Tasting Room
ATTACH;FMTTYPE=image/jpeg:https://capitalcallvintners.com/wp-content/uploads/2025/01/General-Square-Third-Fridays.jpg
END:VEVENT
BEGIN:VEVENT
DTSTART;TZID=America/Los_Angeles:20250330T150000
DTEND;TZID=America/Los_Angeles:20250330T170000
DTSTAMP:20260423T151133
CREATED:20250224T214541Z
LAST-MODIFIED:20250224T214541Z
UID:7353-1743346800-1743354000@capitalcallvintners.com
SUMMARY:Sunday Afternoon Jazz Club
DESCRIPTION:Our Sunday afternoon Jazz Club will run every Sunday February 16 through March 30 from 3:00 PM to 5:00 PM and will feature guitarist Michael Kelly and horns by AD Ibanez. Stop in for a relaxing Sunday afternoon! \nAnd glass pours and bottles are 10% off during Jazz Club!
URL:https://capitalcallvintners.com/event/sunday-afternoon-jazz-club-7/
LOCATION:Capital Call Vintners\, 11 N Second Av\, Walla Walla\, WA\, 99362\, United States
CATEGORIES:Walla Walla Tasting Room
ATTACH;FMTTYPE=image/jpeg:https://capitalcallvintners.com/wp-content/uploads/2025/01/Jazz-Club-social2.jpg
END:VEVENT
BEGIN:VEVENT
DTSTART;TZID=America/Los_Angeles:20250329T170000
DTEND;TZID=America/Los_Angeles:20250329T200000
DTSTAMP:20260423T151133
CREATED:20250224T215655Z
LAST-MODIFIED:20250225T193458Z
UID:7356-1743267600-1743278400@capitalcallvintners.com
SUMMARY:Early Spring Release Party and BBQ
DESCRIPTION:Are you ready for the first barbecue of the season? Jack Arnold\, international BBQ event host\, is joining us in Walla Walla for our spring release party! \nSaturday\, March 29\, 5:00 PM – 8:00 PM\nDrayman House\, 10 N 7th Ave\, Walla Walla \nPair tastes of Jack’s BBQ specialties with our new releases: \n• 2022 Long Cork Merlot\n• 2022 Terra Barrone Sangiovese\n• 2022 Margin Call Cabernet Sauvignon\n• 2024 Rosé of Sangiovese\n• 2024 Gold Standard Gruner Veltliner \nHeavy appetizers and fresh salads will be served. We hope you can join us for this unforgettable evening of great wine\, delicious food\, and live music. \nPublic Tickets: $50 Industry: $30 Wine Club: $25\nEmail Info@CapitalCallVintners.com for Industry and Wine Club coupon codes \nPurchase Tickets
URL:https://capitalcallvintners.com/event/early-spring-release-party-and-bbq/
LOCATION:Drayman House\, 10 N 7th Ave\, Walla Walla\, 99362\, United States
CATEGORIES:Walla Walla
ATTACH;FMTTYPE=image/jpeg:https://capitalcallvintners.com/wp-content/uploads/2025/02/2025-Early-Spring-Release-EVENT-Calendars.jpg
END:VEVENT
BEGIN:VEVENT
DTSTART;TZID=America/Los_Angeles:20250328T170000
DTEND;TZID=America/Los_Angeles:20250328T190000
DTSTAMP:20260423T151133
CREATED:20250312T205949Z
LAST-MODIFIED:20250312T205949Z
UID:7437-1743181200-1743188400@capitalcallvintners.com
SUMMARY:Spring Release Weekend: Pop-Up Music Night with Paul Smith
DESCRIPTION:Paul Smith learned to play Irish fiddle 50 years ago from the patriarch of the legendary Glackin fiddling clan\, Tomas Glackin\, in Dublin\, Ireland. Playing a variety of stringed instruments\, he has been part of music in the Northwest for decades\, releasing albums on the Flying Fish label\, touring solo with his band Ellipsis\, composing music for the St. Paul Chamber Orchestra and Chanticleer\, and publishing research and recordings on early African-American banjo music.
URL:https://capitalcallvintners.com/event/spring-release-weekend-pop-up-music-night-with-paul-smith/
LOCATION:Capital Call Vintners\, 11 N Second Av\, Walla Walla\, WA\, 99362\, United States
CATEGORIES:Walla Walla Tasting Room
ATTACH;FMTTYPE=image/jpeg:https://capitalcallvintners.com/wp-content/uploads/2025/03/IMG_5559.jpeg
END:VEVENT
BEGIN:VEVENT
DTSTART;TZID=America/Los_Angeles:20250323T150000
DTEND;TZID=America/Los_Angeles:20250323T170000
DTSTAMP:20260423T151133
CREATED:20250224T214414Z
LAST-MODIFIED:20250224T214435Z
UID:7351-1742742000-1742749200@capitalcallvintners.com
SUMMARY:Sunday Afternoon Jazz Club
DESCRIPTION:Our Sunday afternoon Jazz Club will run every Sunday February 16 through March 30 from 3:00 PM to 5:00 PM and will feature guitarist Michael Kelly and horns by AD Ibanez. Stop in for a relaxing Sunday afternoon! \nAnd glass pours and bottles are 10% off during Jazz Club!
URL:https://capitalcallvintners.com/event/sunday-afternoon-jazz-club-6/
LOCATION:Capital Call Vintners\, 11 N Second Av\, Walla Walla\, WA\, 99362\, United States
CATEGORIES:Walla Walla Tasting Room
ATTACH;FMTTYPE=image/jpeg:https://capitalcallvintners.com/wp-content/uploads/2025/01/Jazz-Club-social2.jpg
END:VEVENT
BEGIN:VEVENT
DTSTART;TZID=America/Los_Angeles:20250321T173000
DTEND;TZID=America/Los_Angeles:20250321T193000
DTSTAMP:20260423T151133
CREATED:20250129T220147Z
LAST-MODIFIED:20250129T220147Z
UID:7228-1742578200-1742585400@capitalcallvintners.com
SUMMARY:Third Fridays on Second Ave: Eoghan Murphy
DESCRIPTION:Born and raised in Cork\, Ireland\, Eoghan Murphy is a singer-songwriter who has been composing music and performing regularly for over a decade. Influenced and inspired by legendary blues musicians\, jazz composers and iconic folk-singers\, as well as music from his native Ireland\, Eoghan enjoys writing and arranging songs that tell new stories while also paying homage to the past. \nNo cover. During our Third Friday live music series\, glass pours and bottles are always 10% off!
URL:https://capitalcallvintners.com/event/third-fridays-on-second-ave-eoghan-murphy/
LOCATION:IA
CATEGORIES:Walla Walla,Walla Walla Tasting Room
ATTACH;FMTTYPE=image/jpeg:https://capitalcallvintners.com/wp-content/uploads/2025/01/General-Square-Third-Fridays.jpg
END:VEVENT
BEGIN:VEVENT
DTSTART;TZID=America/Los_Angeles:20250316T150000
DTEND;TZID=America/Los_Angeles:20250316T170000
DTSTAMP:20260423T151133
CREATED:20250122T233710Z
LAST-MODIFIED:20250122T233722Z
UID:7104-1742137200-1742144400@capitalcallvintners.com
SUMMARY:Sunday Afternoon Jazz Club
DESCRIPTION:Our Sunday afternoon Jazz Club will run every Sunday February 16 through March 30 from 3:00 PM to 5:00 PM and will feature guitarist Michael Kelly and horns by AD Ibanez. Stop in for a relaxing Sunday afternoon! \nAnd glass pours and bottles are 10% off during Jazz Club!
URL:https://capitalcallvintners.com/event/sunday-afternoon-jazz-club-5/
LOCATION:IA
CATEGORIES:Walla Walla,Walla Walla Tasting Room
ATTACH;FMTTYPE=image/jpeg:https://capitalcallvintners.com/wp-content/uploads/2025/01/Jazz-Club-social2.jpg
END:VEVENT
BEGIN:VEVENT
DTSTART;TZID=America/Los_Angeles:20250309T150000
DTEND;TZID=America/Los_Angeles:20250309T170000
DTSTAMP:20260423T151133
CREATED:20250122T233607Z
LAST-MODIFIED:20250122T233607Z
UID:7102-1741532400-1741539600@capitalcallvintners.com
SUMMARY:Sunday Afternoon Jazz Club
DESCRIPTION:Our Sunday afternoon Jazz Club will run every Sunday February 16 through March 30 from 3:00 PM to 5:00 PM and will feature guitarist Michael Kelly and horns by AD Ibanez. Stop in for a relaxing Sunday afternoon! \nAnd glass pours and bottles are 10% off during Jazz Club!
URL:https://capitalcallvintners.com/event/sunday-afternoon-jazz-club-4/
LOCATION:Capital Call Vintners\, 11 N Second Av\, Walla Walla\, WA\, 99362\, United States
CATEGORIES:Walla Walla,Walla Walla Tasting Room
ATTACH;FMTTYPE=image/jpeg:https://capitalcallvintners.com/wp-content/uploads/2025/01/Jazz-Club-social2.jpg
END:VEVENT
BEGIN:VEVENT
DTSTART;TZID=America/Los_Angeles:20250302T150000
DTEND;TZID=America/Los_Angeles:20250302T170000
DTSTAMP:20260423T151133
CREATED:20250122T233516Z
LAST-MODIFIED:20250122T233516Z
UID:7100-1740927600-1740934800@capitalcallvintners.com
SUMMARY:Sunday Afternoon Jazz Club
DESCRIPTION:Our Sunday afternoon Jazz Club will run every Sunday February 16 through March 30 from 3:00 PM to 5:00 PM and will feature guitarist Michael Kelly and horns by AD Ibanez. Stop in for a relaxing Sunday afternoon! \nAnd glass pours and bottles are 10% off during Jazz Club!
URL:https://capitalcallvintners.com/event/sunday-afternoon-jazz-club-3/
LOCATION:IA
CATEGORIES:Walla Walla,Walla Walla Tasting Room
ATTACH;FMTTYPE=image/jpeg:https://capitalcallvintners.com/wp-content/uploads/2025/01/Jazz-Club-social2.jpg
END:VEVENT
BEGIN:VEVENT
DTSTART;TZID=America/Los_Angeles:20250223T150000
DTEND;TZID=America/Los_Angeles:20250223T170000
DTSTAMP:20260423T151133
CREATED:20250122T233412Z
LAST-MODIFIED:20250122T233428Z
UID:7098-1740322800-1740330000@capitalcallvintners.com
SUMMARY:Sunday Afternoon Jazz Club
DESCRIPTION:Our Sunday afternoon Jazz Club will run every Sunday February 16 through March 30 from 3:00 PM to 5:00 PM and will feature guitarist Michael Kelly and horns by AD Ibanez. Stop in for a relaxing Sunday afternoon! \nAnd glass pours and bottles are 10% off during Jazz Club!
URL:https://capitalcallvintners.com/event/sunday-afternoon-jazz-club-2/
LOCATION:Capital Call Vintners\, 11 N Second Av\, Walla Walla\, WA\, 99362\, United States
ATTACH;FMTTYPE=image/jpeg:https://capitalcallvintners.com/wp-content/uploads/2025/01/Jazz-Club-social2.jpg
END:VEVENT
BEGIN:VEVENT
DTSTART;TZID=America/Los_Angeles:20250221T173000
DTEND;TZID=America/Los_Angeles:20250221T193000
DTSTAMP:20260423T151133
CREATED:20250122T223713Z
LAST-MODIFIED:20250127T211013Z
UID:7058-1740159000-1740166200@capitalcallvintners.com
SUMMARY:Third Fridays on Second Ave: Campbell Davis
DESCRIPTION:We are excited to welcome Campbell Davis\, an indie rock artist with soulful folk roots reminiscent of Allen Stone\, John Mayer\, Drew Holcomb\, Dave Matthews\, and Chris Stapleton. Campbell is a skilled performer with genre blending original music and a vast array of cover songs and styles. to our Walla Walla tasting room on Friday\, January 17 from 5:30 – 7:30 pm. \nDuring our Third Friday live music series\, glass pours and bottles are always 10% off!
URL:https://capitalcallvintners.com/event/third-fridays-on-second-ave-campbell-davis/
LOCATION:Capital Call Vintners\, 11 N Second Av\, Walla Walla\, WA\, 99362\, United States
END:VEVENT
BEGIN:VEVENT
DTSTART;TZID=America/Los_Angeles:20250216T150000
DTEND;TZID=America/Los_Angeles:20250216T170000
DTSTAMP:20260423T151133
CREATED:20250122T231958Z
LAST-MODIFIED:20250122T232007Z
UID:7095-1739718000-1739725200@capitalcallvintners.com
SUMMARY:Sunday Afternoon Jazz Club
DESCRIPTION:Our Sunday afternoon Jazz Club will run every Sunday February 16 through March 30 from 3:00 PM to 5:00 PM and will feature guitarist Michael Kelly and horns by AD Ibanez. Stop in for a relaxing Sunday afternoon! \nAnd glass pours and bottles are 10% off during Jazz Club!
URL:https://capitalcallvintners.com/event/sunday-afternoon-jazz-club/
LOCATION:IA
CATEGORIES:Walla Walla,Walla Walla Tasting Room
ATTACH;FMTTYPE=image/jpeg:https://capitalcallvintners.com/wp-content/uploads/2025/01/Jazz-Club-social2.jpg
END:VEVENT
BEGIN:VEVENT
DTSTART;VALUE=DATE:20250124
DTEND;VALUE=DATE:20250127
DTSTAMP:20260423T151133
CREATED:20250122T225430Z
LAST-MODIFIED:20250124T171104Z
UID:7076-1737676800-1737935999@capitalcallvintners.com
SUMMARY:Locals Weekend Discounts
DESCRIPTION:Stop in during Walla Walla Locals (we’re defining local as pretty much anyone that lives in Eastern Washington!) Weekend for 15% off bottles and glass pours and a waved tasting fee!
URL:https://capitalcallvintners.com/event/locals-weekend-discounts/
LOCATION:IA
CATEGORIES:Walla Walla,Walla Walla Tasting Room
END:VEVENT
END:VCALENDAR