BEGIN:VCALENDAR
VERSION:2.0
PRODID:-//Capital Call Vintners - ECPv6.15.20//NONSGML v1.0//EN
CALSCALE:GREGORIAN
METHOD:PUBLISH
X-ORIGINAL-URL:https://capitalcallvintners.com
X-WR-CALDESC:Events for Capital Call Vintners
REFRESH-INTERVAL;VALUE=DURATION:PT1H
X-Robots-Tag:noindex
X-PUBLISHED-TTL:PT1H
BEGIN:VTIMEZONE
TZID:America/Los_Angeles
BEGIN:DAYLIGHT
TZOFFSETFROM:-0800
TZOFFSETTO:-0700
TZNAME:PDT
DTSTART:20250309T100000
END:DAYLIGHT
BEGIN:STANDARD
TZOFFSETFROM:-0700
TZOFFSETTO:-0800
TZNAME:PST
DTSTART:20251102T090000
END:STANDARD
BEGIN:DAYLIGHT
TZOFFSETFROM:-0800
TZOFFSETTO:-0700
TZNAME:PDT
DTSTART:20260308T100000
END:DAYLIGHT
BEGIN:STANDARD
TZOFFSETFROM:-0700
TZOFFSETTO:-0800
TZNAME:PST
DTSTART:20261101T090000
END:STANDARD
BEGIN:DAYLIGHT
TZOFFSETFROM:-0800
TZOFFSETTO:-0700
TZNAME:PDT
DTSTART:20270314T100000
END:DAYLIGHT
BEGIN:STANDARD
TZOFFSETFROM:-0700
TZOFFSETTO:-0800
TZNAME:PST
DTSTART:20271107T090000
END:STANDARD
END:VTIMEZONE
BEGIN:VEVENT
DTSTART;TZID=America/Los_Angeles:20260213T170000
DTEND;TZID=America/Los_Angeles:20260213T193000
DTSTAMP:20260424T192242
CREATED:20260108T194605Z
LAST-MODIFIED:20260108T195807Z
UID:9207-1771002000-1771011000@capitalcallvintners.com
SUMMARY:Witlof 3 Course Wine Dinner
DESCRIPTION:We are honored to be part of Valentine’s Weekend dinners at The Witlof\, Walla Walla\, featuring a special Winemaker’s Dinner showcasing top selections from our Walla Walla Valley portfolio. Guests can choose between an intimate three-course dinner on Friday night or an elevated seven-course experience on Saturday\, with optional wine pairings curated for each course. \n\nReservations available starting from 5:00 – 7:30 PM\n$59 Food + $30 Wine Pairing\nDoes not include tax or gratuity\n\nStarter\nEndive and radicchio greens with berries and bleu cheese\nSuggested pairing: Rose of Sangiovese \nMain (choice of)\nRoast duck breast with fresh truffled gnocchi\nSuggested pairing: Long Cork Merlot \n– or –  \nRoast Lamb with preserved lemons\, berry gastrique\, and celeriac purée\nSuggested pairing: Nero d’Avola \nDessert\nThyme custard tartlet\nSuggested pairing: Blanc de Blanc \nPurchase Tickets by Main Course Preference\nLamb Main Course Tickets\nDuck Maine Course Tickets
URL:https://capitalcallvintners.com/event/witlof-3-course-dinner/
LOCATION:The Witlof\, 57 E Main Street\, Walla Walla\, 99362\, United States
CATEGORIES:Walla Walla
END:VEVENT
BEGIN:VEVENT
DTSTART;TZID=America/Los_Angeles:20260221T173000
DTEND;TZID=America/Los_Angeles:20260221T193000
DTSTAMP:20260424T192242
CREATED:20251219T194117Z
LAST-MODIFIED:20251219T194117Z
UID:9143-1771695000-1771702200@capitalcallvintners.com
SUMMARY:Third Fridays on Second Ave: Campbell Davis
DESCRIPTION:Campbell Davis is an indie-rock artist with soulful folk roots reminiscent of Allen Stone\, John Mayer\, Drew Holcomb\, Dave Matthews and Chris Stapleton. A skilled performer with genre blending original music and a vast array of cover songs and styles\, his music has resonated with audiences across the Northwest and Southeast of the US. \nNo Cover. Discounts on glass pours and bottles.
URL:https://capitalcallvintners.com/event/third-fridays-on-second-ave-campbell-davis-2/
LOCATION:Capital Call Vintners\, 11 N Second Av\, Walla Walla\, WA\, 99362\, United States
CATEGORIES:Walla Walla Tasting Room
ATTACH;FMTTYPE=image/jpeg:https://capitalcallvintners.com/wp-content/uploads/2025/12/Third-Fridays-Graphic-Campbell-davis-4.5.jpg
END:VEVENT
BEGIN:VEVENT
DTSTART;TZID=America/Los_Angeles:20260222T150000
DTEND;TZID=America/Los_Angeles:20260222T170000
DTSTAMP:20260424T192242
CREATED:20251219T191634Z
LAST-MODIFIED:20251219T191634Z
UID:9133-1771772400-1771779600@capitalcallvintners.com
SUMMARY:Sunday Afternoon Jazz Club
DESCRIPTION:Andrés Dankel-Ibanez is back for 2026 with his rotating band of musicians for our Sunday Afternoon Jazz Club series. Can you think of a better way to roll into a new week? We can’t either. \nAndrew ‘Andrés’ Dankel-Ibañez (AD Ibañez) is a third-generation musician who is a semi-professional trumpeter and flugelhornist based in the Walla Walla Valley.  AD moved to the area as a teenager in 1991 and has performed and recorded jazz\, Latin\, rock\, reggae\, hip-hop\, and classical music in numerous bands throughout the Northwest and Latin America for over 30 years. \nNo cover. Discounts on Glass Pours and Bottles. Every last Sunday of the month.
URL:https://capitalcallvintners.com/event/sunday-afternoon-jazz-club-16/
LOCATION:Capital Call Vintners\, 11 N Second Av\, Walla Walla\, WA\, 99362\, United States
CATEGORIES:Walla Walla Tasting Room
ATTACH;FMTTYPE=image/webp:https://capitalcallvintners.com/wp-content/uploads/2025/04/Andres-Dankel-Ibanez-Jazz-Club.webp
END:VEVENT
BEGIN:VEVENT
DTSTART;TZID=America/Los_Angeles:20260222T183000
DTEND;TZID=America/Los_Angeles:20260222T203000
DTSTAMP:20260424T192242
CREATED:20251201T235014Z
LAST-MODIFIED:20251204T183841Z
UID:8977-1771785000-1771792200@capitalcallvintners.com
SUMMARY:4-Course Wine Paired Dinner at the Marcus Whitman Fireside
DESCRIPTION:Join Us for an Unforgettable Evening at the Marcus Whitman Fireside Lounge \nExperience a thoughtfully curated four-course dinner designed to highlight the distinctive character of Capital Call Vintners wines. From the first sip to the final course\, discover how exceptional food and expressive wines come together to create an evening filled with great stories\, thoughtful pairings\, and remarkable flavors. \nMenu \n\nAmuse-Bouche\nCrispy Potato Rosti-Pickled Shallot Cream\, Trout Roe\, Chive\nPairing: 2023 Blanc de Blancs\nFirst Course\nBeet-Cured Steelhead-Citrus\, Fennel\, Dill\, Crème Fraîche\nPairing: 2024 Rosé of Sangiovese\nSecond Course\nRicotta Gnudi-Mushroom Brodo \,Black Truffle\, Chive\nPairing: 2022 La Bruère Syrah\nThird Course\nBraised Lamb Shoulder-Smoked Potato Purée\, Charred Carrot\, Rosemary Jus\nPairing: 2022 Cashflow Red Blend\nDessert\nDark Chocolate Cremoso-Toasted Brioche\, Espresso Syrup\, Candied Cocoa Nib\nPairing: 2022 Tera Barone Sangiovese\n\nPricing \n\n\nInitial Price $100 + tax and gratuity \n\n\nAfter December 22 $115 + tax and gratuity \n\n\n  \ntickets and more details
URL:https://capitalcallvintners.com/event/4-course-wine-paired-dinner-at-the-marcus-whitman-fireside/
LOCATION:Marcus Whitman\, 6 West Rose St\, Walla Walla\, WA\, 99362\, United States
CATEGORIES:Walla Walla
ATTACH;FMTTYPE=image/webp:https://capitalcallvintners.com/wp-content/uploads/2025/12/Dinner-at-Marcus-Whitman-Invite-1.webp
END:VEVENT
BEGIN:VEVENT
DTSTART;TZID=America/Los_Angeles:20260320T173000
DTEND;TZID=America/Los_Angeles:20260320T193000
DTSTAMP:20260424T192242
CREATED:20251219T200127Z
LAST-MODIFIED:20251219T200127Z
UID:9146-1774027800-1774035000@capitalcallvintners.com
SUMMARY:Third Fridays on Second Ave: Friends of the Devil
DESCRIPTION:A group of talented musicians serving up music from The Grateful Dead\, Bob Dylan\, Neil Young\, The PHISH from Vermont\, and other cosmic country favorites! \nNo Cover. Discount on glass pours and bottles.
URL:https://capitalcallvintners.com/event/third-fridays-on-second-ave-friends-of-the-devil-2/
LOCATION:Capital Call Vintners\, 11 N Second Av\, Walla Walla\, WA\, 99362\, United States
CATEGORIES:Walla Walla Tasting Room
ATTACH;FMTTYPE=image/jpeg:https://capitalcallvintners.com/wp-content/uploads/2025/12/Third-Fridays-Graphics-Friends-of-the-Devil.jpg
END:VEVENT
BEGIN:VEVENT
DTSTART;TZID=America/Los_Angeles:20260329T150000
DTEND;TZID=America/Los_Angeles:20260329T170000
DTSTAMP:20260424T192242
CREATED:20251219T191740Z
LAST-MODIFIED:20251219T191740Z
UID:9135-1774796400-1774803600@capitalcallvintners.com
SUMMARY:Sunday Afternoon Jazz Club
DESCRIPTION:Andrés Dankel-Ibanez is back for 2026 with his rotating band of musicians for our Sunday Afternoon Jazz Club series. Can you think of a better way to roll into a new week? We can’t either. \nAndrew ‘Andrés’ Dankel-Ibañez (AD Ibañez) is a third-generation musician who is a semi-professional trumpeter and flugelhornist based in the Walla Walla Valley.  AD moved to the area as a teenager in 1991 and has performed and recorded jazz\, Latin\, rock\, reggae\, hip-hop\, and classical music in numerous bands throughout the Northwest and Latin America for over 30 years. \nNo cover. Discounts on Glass Pours and Bottles. Every last Sunday of the month.
URL:https://capitalcallvintners.com/event/sunday-afternoon-jazz-club-17/
LOCATION:Capital Call Vintners\, 11 N Second Av\, Walla Walla\, WA\, 99362\, United States
CATEGORIES:Walla Walla Tasting Room
ATTACH;FMTTYPE=image/webp:https://capitalcallvintners.com/wp-content/uploads/2025/04/Andres-Dankel-Ibanez-Jazz-Club.webp
END:VEVENT
BEGIN:VEVENT
DTSTART;TZID=America/Los_Angeles:20260417T173000
DTEND;TZID=America/Los_Angeles:20260417T193000
DTSTAMP:20260424T192242
CREATED:20251219T202429Z
LAST-MODIFIED:20251219T202429Z
UID:9149-1776447000-1776454200@capitalcallvintners.com
SUMMARY:Third Fridays on Second Ave: Adam Kirtley
DESCRIPTION:Singer-songwriter Adam Kirtley has been making music in the valley for almost 25 years. You might recognize him from the bluegrass/Americana band Rogue Lobster or rocking out with Stereo Bird. \nThese days\, Adam’s solo shows shine a light on his own songs—original tunes full of storytelling\, heart\, and plenty of soul. With years of playing under his belt\, he brings an easy mix of talent and authenticity that makes every show feel like a good hang with great music. \nNo Cover. Discounts on glass pours and bottles.
URL:https://capitalcallvintners.com/event/third-fridays-on-second-ave-adam-kirtley/
LOCATION:Capital Call Vintners\, 11 N Second Av\, Walla Walla\, WA\, 99362\, United States
CATEGORIES:Walla Walla Tasting Room
ATTACH;FMTTYPE=image/jpeg:https://capitalcallvintners.com/wp-content/uploads/2025/12/Third-Fridays-Graphics-Adam-Kirtley-4.5.jpg
END:VEVENT
BEGIN:VEVENT
DTSTART;TZID=America/Los_Angeles:20260426T150000
DTEND;TZID=America/Los_Angeles:20260426T170000
DTSTAMP:20260424T192242
CREATED:20251219T191901Z
LAST-MODIFIED:20251219T191901Z
UID:9137-1777215600-1777222800@capitalcallvintners.com
SUMMARY:Sunday Afternoon Jazz Club
DESCRIPTION:Andrés Dankel-Ibanez is back for 2026 with his rotating band of musicians for our Sunday Afternoon Jazz Club series. Can you think of a better way to roll into a new week? We can’t either. \nAndrew ‘Andrés’ Dankel-Ibañez (AD Ibañez) is a third-generation musician who is a semi-professional trumpeter and flugelhornist based in the Walla Walla Valley.  AD moved to the area as a teenager in 1991 and has performed and recorded jazz\, Latin\, rock\, reggae\, hip-hop\, and classical music in numerous bands throughout the Northwest and Latin America for over 30 years. \nNo cover. Discounts on Glass Pours and Bottles. Every last Sunday of the month.
URL:https://capitalcallvintners.com/event/sunday-afternoon-jazz-club-18/
LOCATION:Capital Call Vintners\, 11 N Second Av\, Walla Walla\, WA\, 99362\, United States
CATEGORIES:Walla Walla Tasting Room
ATTACH;FMTTYPE=image/webp:https://capitalcallvintners.com/wp-content/uploads/2025/04/Andres-Dankel-Ibanez-Jazz-Club.webp
END:VEVENT
BEGIN:VEVENT
DTSTART;TZID=America/Los_Angeles:20260515T173000
DTEND;TZID=America/Los_Angeles:20260515T193000
DTSTAMP:20260424T192242
CREATED:20251219T205644Z
LAST-MODIFIED:20260101T024847Z
UID:9152-1778866200-1778873400@capitalcallvintners.com
SUMMARY:Third Fridays on Second Ave: Andru Gomez
DESCRIPTION:Andru Gomez is an Americana songwriter based in Moscow\, ID. Blending folk\, blues\, gypsy jazz and harmonica\, his performances mix raw acoustic energy with thoughtful melodic phrasing\, creating a layered sound that feels bigger than a solo act. Listen to “Drunk at Church” on Spotify\, Amazon Music and YouTube. \nNo Cover. Discounts on Glass Pours and Bottles
URL:https://capitalcallvintners.com/event/third-fridays-on-second-ave-andru-gomez/
LOCATION:Capital Call Vintners\, 11 N Second Av\, Walla Walla\, WA\, 99362\, United States
CATEGORIES:Walla Walla Tasting Room
ATTACH;FMTTYPE=image/jpeg:https://capitalcallvintners.com/wp-content/uploads/2025/12/Third-Fridays-Graphics-Andru-Gomez-4.5.jpg
END:VEVENT
BEGIN:VEVENT
DTSTART;TZID=America/Los_Angeles:20260531T150000
DTEND;TZID=America/Los_Angeles:20260531T170000
DTSTAMP:20260424T192242
CREATED:20251219T192001Z
LAST-MODIFIED:20251219T192001Z
UID:9139-1780239600-1780246800@capitalcallvintners.com
SUMMARY:Sunday Afternoon Jazz Club
DESCRIPTION:Andrés Dankel-Ibanez is back for 2026 with his rotating band of musicians for our Sunday Afternoon Jazz Club series. Can you think of a better way to roll into a new week? We can’t either. \nAndrew ‘Andrés’ Dankel-Ibañez (AD Ibañez) is a third-generation musician who is a semi-professional trumpeter and flugelhornist based in the Walla Walla Valley.  AD moved to the area as a teenager in 1991 and has performed and recorded jazz\, Latin\, rock\, reggae\, hip-hop\, and classical music in numerous bands throughout the Northwest and Latin America for over 30 years. \nNo cover. Discounts on Glass Pours and Bottles. Every last Sunday of the month.
URL:https://capitalcallvintners.com/event/sunday-afternoon-jazz-club-19/
LOCATION:Capital Call Vintners\, 11 N Second Av\, Walla Walla\, WA\, 99362\, United States
CATEGORIES:Walla Walla Tasting Room
ATTACH;FMTTYPE=image/webp:https://capitalcallvintners.com/wp-content/uploads/2025/04/Andres-Dankel-Ibanez-Jazz-Club.webp
END:VEVENT
BEGIN:VEVENT
DTSTART;TZID=America/Los_Angeles:20260619T173000
DTEND;TZID=America/Los_Angeles:20260619T193000
DTSTAMP:20260424T192242
CREATED:20260317T180542Z
LAST-MODIFIED:20260317T180542Z
UID:9299-1781890200-1781897400@capitalcallvintners.com
SUMMARY:Third Fridays on Second Ave: Kate Freja-Nelson
DESCRIPTION:Musical expression has inspired Kate since a young age. Growing up listening to a diverse range of music\, inspired by The Beatles\, Jack Johnson\, the sound of the 90s and nature\, she expresses her soul with intimate songwriting and eclectic covers. Expressing vulnerability and paths we choose as we navigate through life\, Kate provides authentic sounds from the heart. \nNo cover. Discounts on glass pours and bottles.
URL:https://capitalcallvintners.com/event/third-fridays-on-second-ave-kate-freja-nelson-2/
LOCATION:Capital Call Vintners\, 11 N Second Av\, Walla Walla\, WA\, 99362\, United States
CATEGORIES:Walla Walla Tasting Room
ATTACH;FMTTYPE=image/webp:https://capitalcallvintners.com/wp-content/uploads/2026/03/06-19-26-Kate-Freja-Nelson.webp
END:VEVENT
BEGIN:VEVENT
DTSTART;TZID=America/Los_Angeles:20260628T150000
DTEND;TZID=America/Los_Angeles:20260628T170000
DTSTAMP:20260424T192242
CREATED:20251219T192155Z
LAST-MODIFIED:20251219T192155Z
UID:9141-1782658800-1782666000@capitalcallvintners.com
SUMMARY:Sunday Afternoon Jazz Club
DESCRIPTION:Andrés Dankel-Ibanez is back for 2026 with his rotating band of musicians for our Sunday Afternoon Jazz Club series. Can you think of a better way to roll into a new week? We can’t either. \nAndrew ‘Andrés’ Dankel-Ibañez (AD Ibañez) is a third-generation musician who is a semi-professional trumpeter and flugelhornist based in the Walla Walla Valley.  AD moved to the area as a teenager in 1991 and has performed and recorded jazz\, Latin\, rock\, reggae\, hip-hop\, and classical music in numerous bands throughout the Northwest and Latin America for over 30 years. \nNo cover. Discounts on Glass Pours and Bottles. Every last Sunday of the month.
URL:https://capitalcallvintners.com/event/sunday-afternoon-jazz-club-20/
LOCATION:WA
CATEGORIES:Walla Walla Tasting Room
ATTACH;FMTTYPE=image/webp:https://capitalcallvintners.com/wp-content/uploads/2025/04/Andres-Dankel-Ibanez-Jazz-Club.webp
END:VEVENT
BEGIN:VEVENT
DTSTART;TZID=America/Los_Angeles:20260717T173000
DTEND;TZID=America/Los_Angeles:20260717T193000
DTSTAMP:20260424T192242
CREATED:20260317T184728Z
LAST-MODIFIED:20260317T184728Z
UID:9306-1784309400-1784316600@capitalcallvintners.com
SUMMARY:Third Fridays on Second Ave: Michael Agidius
DESCRIPTION:Michael Agidius has been immersed in music since childhood\, beginning with choir solos at age four and later studying piano and saxophone with a focus on jazz and classical styles. After a 31-year career teaching music in Milton-Freewater\, Oregon\, he went on to build and direct the big band program at Walla Walla University for 14 years. Since retiring in 2018\, he has focused on performing\, bringing his talents to jazz\, blues\, rock\, country\, and regional ensembles including the Walla Walla Symphony and Pendleton Round-Up Mounted Band.
URL:https://capitalcallvintners.com/event/third-fridays-on-second-ave-michael-agidius/
LOCATION:Capital Call Vintners\, 11 N Second Av\, Walla Walla\, WA\, 99362\, United States
CATEGORIES:Walla Walla Tasting Room
ATTACH;FMTTYPE=image/webp:https://capitalcallvintners.com/wp-content/uploads/2026/03/07-17-26-Michael-Agidius.webp
END:VEVENT
BEGIN:VEVENT
DTSTART;TZID=America/Los_Angeles:20260821T173000
DTEND;TZID=America/Los_Angeles:20260821T193000
DTSTAMP:20260424T192242
CREATED:20260317T191210Z
LAST-MODIFIED:20260317T191340Z
UID:9310-1787333400-1787340600@capitalcallvintners.com
SUMMARY:Third Fridays on Second Ave: Michael Kelly
DESCRIPTION:Michael Kelly has played professionally in the Northwest since the early 1990s. He was a part of the Seattle-based blues bands Albro Swift\, Deacon Blue\, and Milagro. He presents music that grooves slowly and runs deep. He plays at a loud enough volume to enjoy but never overpowering — loud enough to hear but never intrusive. \nNo cover\, discounts on glass pours and bottles.
URL:https://capitalcallvintners.com/event/third-fridays-on-second-ave-michael-kelly/
LOCATION:Capital Call Vintners\, 11 N Second Av\, Walla Walla\, WA\, 99362\, United States
CATEGORIES:Walla Walla Tasting Room
ATTACH;FMTTYPE=image/webp:https://capitalcallvintners.com/wp-content/uploads/2026/03/08-21-26-Michael-Kelly.webp
END:VEVENT
BEGIN:VEVENT
DTSTART;TZID=America/Los_Angeles:20260918T173000
DTEND;TZID=America/Los_Angeles:20260918T193000
DTSTAMP:20260424T192242
CREATED:20260317T194248Z
LAST-MODIFIED:20260317T194248Z
UID:9312-1789752600-1789759800@capitalcallvintners.com
SUMMARY:Third Fridays on Second Ave: Total BS
DESCRIPTION:Two former rock stars from the 90’s come together to play all original songs. …Wait\, that’s just BS. Total BS is Ben & Steve. \nNo cover. During our Third Friday live music series\, glass pours and bottles are always 10% off!
URL:https://capitalcallvintners.com/event/third-fridays-on-second-ave-total-bs-2/
LOCATION:Capital Call Vintners\, 11 N Second Av\, Walla Walla\, WA\, 99362\, United States
CATEGORIES:Walla Walla Tasting Room
ATTACH;FMTTYPE=image/webp:https://capitalcallvintners.com/wp-content/uploads/2026/03/09-18-26-Total-Bs.webp
END:VEVENT
END:VCALENDAR