BEGIN:VCALENDAR
VERSION:2.0
PRODID:-//Capital Call Vintners - ECPv6.15.20//NONSGML v1.0//EN
CALSCALE:GREGORIAN
METHOD:PUBLISH
X-ORIGINAL-URL:https://capitalcallvintners.com
X-WR-CALDESC:Events for Capital Call Vintners
REFRESH-INTERVAL;VALUE=DURATION:PT1H
X-Robots-Tag:noindex
X-PUBLISHED-TTL:PT1H
BEGIN:VTIMEZONE
TZID:America/Los_Angeles
BEGIN:DAYLIGHT
TZOFFSETFROM:-0800
TZOFFSETTO:-0700
TZNAME:PDT
DTSTART:20240310T100000
END:DAYLIGHT
BEGIN:STANDARD
TZOFFSETFROM:-0700
TZOFFSETTO:-0800
TZNAME:PST
DTSTART:20241103T090000
END:STANDARD
BEGIN:DAYLIGHT
TZOFFSETFROM:-0800
TZOFFSETTO:-0700
TZNAME:PDT
DTSTART:20250309T100000
END:DAYLIGHT
BEGIN:STANDARD
TZOFFSETFROM:-0700
TZOFFSETTO:-0800
TZNAME:PST
DTSTART:20251102T090000
END:STANDARD
BEGIN:DAYLIGHT
TZOFFSETFROM:-0800
TZOFFSETTO:-0700
TZNAME:PDT
DTSTART:20260308T100000
END:DAYLIGHT
BEGIN:STANDARD
TZOFFSETFROM:-0700
TZOFFSETTO:-0800
TZNAME:PST
DTSTART:20261101T090000
END:STANDARD
END:VTIMEZONE
BEGIN:VEVENT
DTSTART;TZID=America/Los_Angeles:20251212T173000
DTEND;TZID=America/Los_Angeles:20251212T193000
DTSTAMP:20260424T152638
CREATED:20251104T201233Z
LAST-MODIFIED:20251104T201728Z
UID:8927-1765560600-1765567800@capitalcallvintners.com
SUMMARY:Music Fridays: Eoghan Murphy
DESCRIPTION:Born and raised in Cork\, Ireland\, Eoghan Murphy is a singer-songwriter who has composed music and performed regularly for over a decade. Influenced and inspired by legendary blues musicians\, jazz composers\, and iconic folk singers\, as well as music from his native Ireland. \nEoghan enjoys writing and arranging songs that tell new stories while also paying homage to the past.
URL:https://capitalcallvintners.com/event/music-fridays-eoghan-murphy/
LOCATION:Capital Call Vintners\, 11 N Second Av\, Walla Walla\, WA\, 99362\, United States
CATEGORIES:Walla Walla Tasting Room
ATTACH;FMTTYPE=image/jpeg:https://capitalcallvintners.com/wp-content/uploads/2025/11/Eoghan-Murphy.jpeg
END:VEVENT
END:VCALENDAR