BEGIN:VCALENDAR
VERSION:2.0
PRODID:-//Capital Call Vintners - ECPv6.15.20//NONSGML v1.0//EN
CALSCALE:GREGORIAN
METHOD:PUBLISH
X-WR-CALNAME:Capital Call Vintners
X-ORIGINAL-URL:https://capitalcallvintners.com
X-WR-CALDESC:Events for Capital Call Vintners
REFRESH-INTERVAL;VALUE=DURATION:PT1H
X-Robots-Tag:noindex
X-PUBLISHED-TTL:PT1H
BEGIN:VTIMEZONE
TZID:America/Los_Angeles
BEGIN:DAYLIGHT
TZOFFSETFROM:-0800
TZOFFSETTO:-0700
TZNAME:PDT
DTSTART:20240310T100000
END:DAYLIGHT
BEGIN:STANDARD
TZOFFSETFROM:-0700
TZOFFSETTO:-0800
TZNAME:PST
DTSTART:20241103T090000
END:STANDARD
BEGIN:DAYLIGHT
TZOFFSETFROM:-0800
TZOFFSETTO:-0700
TZNAME:PDT
DTSTART:20250309T100000
END:DAYLIGHT
BEGIN:STANDARD
TZOFFSETFROM:-0700
TZOFFSETTO:-0800
TZNAME:PST
DTSTART:20251102T090000
END:STANDARD
BEGIN:DAYLIGHT
TZOFFSETFROM:-0800
TZOFFSETTO:-0700
TZNAME:PDT
DTSTART:20260308T100000
END:DAYLIGHT
BEGIN:STANDARD
TZOFFSETFROM:-0700
TZOFFSETTO:-0800
TZNAME:PST
DTSTART:20261101T090000
END:STANDARD
END:VTIMEZONE
BEGIN:VEVENT
DTSTART;VALUE=DATE:20251205
DTEND;VALUE=DATE:20251208
DTSTAMP:20260424T152326
CREATED:20251114T192545Z
LAST-MODIFIED:20251114T192545Z
UID:8952-1764892800-1765151999@capitalcallvintners.com
SUMMARY:Holiday Barrel Weekend at Capital Call
DESCRIPTION:Friday\, December 5 – Live MusicJoin us from 5:30 to 7:30 PM for an evening with Friends of the Devil. Pasta e fagioli soup will be available while you enjoy the tunes. \n\nSaturday\, December 6 – Barrel Tasting & Nero d’Avola ReleaseEvent Hours: 1:00 PM – 6:00 PMRegular Tasting Room Hours: 12:00 PM – 7:00 PM \n\n\nBe among the first to taste our 2023 Windhorse Nero d’Avola release. \n\n\nSample our 2024 barrel selections in shiners: \n\n\nCapital Call Carbondale Cabernet Sauvignon \n\n\nWindhorse Grenache \n\n\nWindhorse Cabernet Franc \n\n\n\n\nEnjoy a cozy bowl of pasta e fagioli soup while you sip. \n\n\nCome early to visit our tasting room before heading to the parade! \n\nSunday\, December 7 – Barrel Samples & Nero d’AvolaNo special programming—just continue savoring our barrel samples and celebrating the release of the 2023 Windhorse Nero d’Avola.
URL:https://capitalcallvintners.com/event/holiday-barrel-weekend-at-capital-call/
LOCATION:Capital Call Vintners\, 11 N Second Av\, Walla Walla\, WA\, 99362\, United States
CATEGORIES:Walla Walla Tasting Room
ATTACH;FMTTYPE=image/webp:https://capitalcallvintners.com/wp-content/uploads/2025/11/Holiday-Barrel-Weekend-Walla-Walla.webp
END:VEVENT
BEGIN:VEVENT
DTSTART;TZID=America/Los_Angeles:20251205T173000
DTEND;TZID=America/Los_Angeles:20251205T193000
DTSTAMP:20260424T152326
CREATED:20251104T200429Z
LAST-MODIFIED:20251104T200844Z
UID:8924-1764955800-1764963000@capitalcallvintners.com
SUMMARY:Music Fridays: Friends of the Devil
DESCRIPTION:A group of talented musicians serving up music from The Grateful Dead\, Bob Dylan\, Neil Young\, The PHISH from Vermont\, and other cosmic country favorites.
URL:https://capitalcallvintners.com/event/music-fridays-friends-of-the-devil/
LOCATION:Capital Call Vintners\, 11 N Second Av\, Walla Walla\, WA\, 99362\, United States
CATEGORIES:Walla Walla Tasting Room
ATTACH;FMTTYPE=image/jpeg:https://capitalcallvintners.com/wp-content/uploads/2025/11/Friends-of-the-Devil.jpeg
END:VEVENT
BEGIN:VEVENT
DTSTART;TZID=America/Los_Angeles:20251205T190000
DTEND;TZID=America/Los_Angeles:20251205T210000
DTSTAMP:20260424T152326
CREATED:20251114T201127Z
LAST-MODIFIED:20251114T203448Z
UID:8955-1764961200-1764968400@capitalcallvintners.com
SUMMARY:Iowa: 801 Chophouse x Capital Call Holiday Dinner
DESCRIPTION:Celebrate the season with an exquisite holiday dinner at 801 Chophouse\, Des Moines\, in partnership with Capital Call Vintners. All-inclusive price covers tax and gratuity. Reservations are required; call (515) 288-6000 to secure your spot. \nAbout 801 Chophouse:Known for its prime steaks\, fresh seafood\, and elegant dining experience\, 801 Chophouse offers a refined setting perfect for a festive holiday celebration. This special dinner brings together their culinary expertise with Capital Call Vintners’ signature wines for an unforgettable evening. \nDinner Menu & Wine Pairings \nWelcome Splash2023 Capital Call Blanc de Blancs Brut Sparkling Wine \nFirst CourseCrab Cakes and Tuna TartarePaired with 2023 Capital Call Blanc de Blancs Brut Sparkling Wine \nSecond CourseMaple Bourbon Braised BaconPaired with 2022 Long Cork Merlot \nThird CourseDry Aged Delmonico with Garlic Mashed Potatoes and Grilled AsparagusPaired with 2022 Capital Call Cabernet Sauvignon \nFourth Course (Dessert)Choice of: \n\n\nCrème Brûlée \n\n\n801 Trio of Sorbets — Strawberry\, Raspberry\, Vanilla Custard \n\n\nJoin us for a festive evening of seasonal flavors\, expertly crafted dishes\, and perfect wine pairings. A celebration of the holidays with Capital Call Vintners and 801 Chophouse.
URL:https://capitalcallvintners.com/event/iowa-801-chophouse-x-capital-call-holiday-dinner/
LOCATION:801 Chophouse\, 801 Grand Ave\, Des Moines\, 50309\, United States
CATEGORIES:Iowa
ATTACH;FMTTYPE=image/webp:https://capitalcallvintners.com/wp-content/uploads/2025/11/801-2025-Holiday-Party.webp
END:VEVENT
END:VCALENDAR